BEGIN:VCALENDAR
VERSION:2.0
PRODID:-//ChamberMaster//Event Calendar 2.0//EN
METHOD:PUBLISH
X-PUBLISHED-TTL:P3D
REFRESH-INTERVAL:P3D
CALSCALE:GREGORIAN
BEGIN:VEVENT
DTSTART:20200219T160000Z
DTEND:20200219T180000Z
X-MICROSOFT-CDO-ALLDAYEVENT:FALSE
SUMMARY:The Blue Book VIP Meet & Greet - Connect with Awarded local GCs
DESCRIPTION:Take a moment to connect with locally-based GCs. Discuss their Upcoming projects and develop new relationships. \n\n\n\nMembers of the GHCA are welcome to register in this event!\n\n\n\nEnjoy lunch on The Blue Book Building & Construction Network
X-ALT-DESC;FMTTYPE=text/html:Take a moment to connect with locally-based GCs. Discuss their Upcoming projects and develop new relationships.&nbsp\;<br />\n<br />\nMembers of the GHCA are welcome to register in this event!<br />\n<br />\nEnjoy lunch on <strong>The Blue Book </strong><em>Building &amp\; Construction Network</em>
LOCATION:Ducere Construction Services\, Inc 5925 Mulberry St. Austell\, GA 30168
UID:e.9342.1486
SEQUENCE:3
DTSTAMP:20260424T225235Z
URL:https://business.georgiahca.org/events/details/the-blue-book-vip-meet-greet-connect-with-awarded-local-gcs-1486
END:VEVENT

END:VCALENDAR
