BEGIN:VCALENDAR
VERSION:2.0
PRODID:-//ChamberMaster//Event Calendar 2.0//EN
METHOD:PUBLISH
X-PUBLISHED-TTL:P3D
REFRESH-INTERVAL:P3D
CALSCALE:GREGORIAN
BEGIN:VEVENT
DTSTART:20190627T120000Z
DTEND:20190627T170000Z
X-MICROSOFT-CDO-ALLDAYEVENT:FALSE
SUMMARY:SBA: What Small Businesses Need to Know About Surety Bonds
DESCRIPTION:Your path to Surety Bonds and everything you need to know about contract bonding has arrived. Join the U.S. Small Business Administration and the National Association of Surety Bond Producers for half day seminar exploring a variaty of topics including: \n\n	Contract Bonding & Insurance \n	Banking & Finance\n	Federal Assistence Programs \n	Local Procurement Opportunities
X-ALT-DESC;FMTTYPE=text/html:Your path to Surety Bonds and everything you need to know about contract bonding has arrived. Join the U.S. Small Business Administration and the National Association of Surety Bond Producers for half day seminar exploring a variaty of topics including:&nbsp\;\n<ul>\n	<li>Contract Bonding &amp\; Insurance&nbsp\;</li>\n	<li>Banking &amp\; Finance</li>\n	<li>Federal Assistence Programs&nbsp\;</li>\n	<li>Local Procurement Opportunities&nbsp\;</li>\n</ul>\n
LOCATION:Atlanta Technical Collage Cleveland L. Dennard Conference Center 1560 Metropolitan Parkway SW Atlanta\, GA 30310-4446
UID:e.9342.1370
SEQUENCE:3
DTSTAMP:20260425T123338Z
URL:https://business.georgiahca.org/events/details/sba-what-small-businesses-need-to-know-about-surety-bonds-1370
END:VEVENT

END:VCALENDAR
