BEGIN:VCALENDAR
VERSION:2.0
PRODID:-//ChamberMaster//Event Calendar 2.0//EN
METHOD:PUBLISH
X-PUBLISHED-TTL:P3D
REFRESH-INTERVAL:P3D
CALSCALE:GREGORIAN
BEGIN:VEVENT
DTSTART:20190131T160000Z
DTEND:20190131T173000Z
X-MICROSOFT-CDO-ALLDAYEVENT:FALSE
SUMMARY:Minority certification webinar
DESCRIPTION:Minority Certification Webinar\n\nJoin us on Thursday\, January 31\, in a totally free Webinar\, where Stacy will share all your knowledge and give us a broad session about how to process the registration of a business so you can reach an advantage\, be much more competitive\, and that you can build an organization capable of obtaining results! Click here to register https://zoom.us/webinar/register/WN_r8PnNzQuQ1-v_caPaN7IFg
X-ALT-DESC;FMTTYPE=text/html:<span style="color: rgb(34\, 34\, 34)\; font-family: tahoma\, sans-serif\; font-size: small\;">Minority Certification Webinar<br />\nJoin us on Thursday\, January 31\, in a totally free Webinar\, where Stacy will share all your knowledge and give us a broad session about how to process the registration of a business so you can reach an advantage\, be much more competitive\, and that you can build an organization capable of obtaining results! Click here to register&nbsp\;</span><font color="#0000ff" style="font-family: tahoma\, sans-serif\; font-size: small\;">https://zoom.us/webinar/register/WN_r8PnNzQuQ1-v_caPaN7IFg</font>
LOCATION:
UID:e.9342.1361
SEQUENCE:3
DTSTAMP:20260425T213935Z
URL:https://business.georgiahca.org/events/details/minority-certification-webinar-1361
END:VEVENT

END:VCALENDAR
