BEGIN:VCALENDAR
VERSION:2.0
PRODID:-//ChamberMaster//Event Calendar 2.0//EN
METHOD:PUBLISH
X-PUBLISHED-TTL:P3D
REFRESH-INTERVAL:P3D
CALSCALE:GREGORIAN
BEGIN:VEVENT
DTSTART:20190528T130000Z
DTEND:20190530T170000Z
X-MICROSOFT-CDO-ALLDAYEVENT:FALSE
SUMMARY:MARTA: Small Business Week
DESCRIPTION:Join us for this exciting opportunity for small business owners to be educated on how to do business with MARTA. Gain valuable resources for business development.\n\n	Day 1: Doing Business with MARTA and DBE Certifications\n	Day 2: Small Business Resource Fair\n	Day 3: Reverse Vendor Fair
X-ALT-DESC;FMTTYPE=text/html:Join us for this exciting opportunity for small business owners to be educated on how to do business with MARTA. Gain valuable resources for business development.\n<ul>\n	<li>Day 1: Doing Business with MARTA and DBE Certifications</li>\n	<li>Day 2: Small Business Resource Fair</li>\n	<li>Day 3: Reverse Vendor Fair</li>\n</ul>\n
LOCATION:MARTA Headquarters 2424 Piedmont NE Atlanta\, GA 30324
UID:e.9342.1372
SEQUENCE:3
DTSTAMP:20260425T142221Z
URL:https://business.georgiahca.org/events/details/marta-small-business-week-1372
END:VEVENT

END:VCALENDAR
