BEGIN:VCALENDAR
VERSION:2.0
PRODID:-//ChamberMaster//Event Calendar 2.0//EN
METHOD:PUBLISH
X-PUBLISHED-TTL:P3D
REFRESH-INTERVAL:P3D
CALSCALE:GREGORIAN
BEGIN:VEVENT
DTSTART:20190515T193000Z
DTEND:20190515T210000Z
X-MICROSOFT-CDO-ALLDAYEVENT:FALSE
SUMMARY:How to do Business with a General Contractor Session 2
DESCRIPTION:One of our most valuable assets is our ability to connect\; this is why four times a year we invite one of our General Contractor members to reveal the secret that allows Subcontractors to become part of major projects.\n \n\nThis time we have the pleasure to have Brasfield & Gorrie presenting opportunities and going over all the details that Subcontractors need to partner up in construction projects. \n \n\nWe especially thank P2K for being the great sponsor of this event.\n\n\n\nPlease contact GHCA to see if your company qualifies to attend this event.
X-ALT-DESC;FMTTYPE=text/html:<p dir="ltr" style="line-height:1.38\;margin-top:0pt\;margin-bottom:0pt\;"><span style="font-size:12px\;"><span style="font-family:tahoma\;"><span id="docs-internal-guid-fea3532b-7fff-796d-3c01-69b31fd764f9"><span style="font-variant-numeric: normal\; font-variant-east-asian: normal\; vertical-align: baseline\; white-space: pre-wrap\;">One of our most valuable assets is our ability to connect\; this is why four times a year we invite one of our General Contractor members to reveal the secret that allows Subcontractors to become part of major projects.</span></span></span></span></p>\n&nbsp\;\n\n<p dir="ltr" style="line-height:1.38\;margin-top:0pt\;margin-bottom:0pt\;"><span style="font-size:12px\;"><span style="font-family:tahoma\;"><span id="docs-internal-guid-fea3532b-7fff-796d-3c01-69b31fd764f9"><span style="font-variant-numeric: normal\; font-variant-east-asian: normal\; vertical-align: baseline\; white-space: pre-wrap\;">This time we have the pleasure to have <strong>Brasfield &amp\; Gorrie</strong> presenting opportunities and going over all the details that Subcontractors need to partner up in construction projects. </span></span></span></span></p>\n<span style="font-size:12px\;"><span style="font-family:tahoma\;">&nbsp\;<br />\nWe especially thank P2K for being the great sponsor of this event.</span></span>\n\n<p dir="ltr" style="line-height:1.38\;margin-top:0pt\;margin-bottom:0pt\;"><br />\n<span style="font-size:12px\;"><span style="font-family:tahoma\;"><span id="docs-internal-guid-fea3532b-7fff-796d-3c01-69b31fd764f9"><span style="font-variant-numeric: normal\; font-variant-east-asian: normal\; vertical-align: baseline\; white-space: pre-wrap\;">Please contact GHCA to see if your company qualifies to attend this event. </span></span></span></span></p>\n\n<div>&nbsp\;</div>\n
LOCATION:
UID:e.9342.1367
SEQUENCE:3
DTSTAMP:20260425T142508Z
URL:https://business.georgiahca.org/events/details/how-to-do-business-with-a-general-contractor-session-2-1367
END:VEVENT

END:VCALENDAR
