BEGIN:VCALENDAR
VERSION:2.0
PRODID:-//ChamberMaster//Event Calendar 2.0//EN
METHOD:PUBLISH
X-PUBLISHED-TTL:P3D
REFRESH-INTERVAL:P3D
CALSCALE:GREGORIAN
BEGIN:VEVENT
DTSTART:20190619T130000Z
DTEND:20190619T150000Z
X-MICROSOFT-CDO-ALLDAYEVENT:FALSE
SUMMARY:Herdon Square Development - Technical Session
DESCRIPTION:Have access to all the information and the requirements to be a part of the HERNDON Square Development\, a project in need of all vertical divisions that is looking for minority and DBE participation!\n\n\n\nSubcontracting and Vendor Opportunities \n\n\n\nMasonry      Metals                        Concrete \n\nMillwork       Waterproofing            Rough Carpentry\n\nRoofng         Glazing/Windows      Flooring \n\nHVAC           Bath Accessories      Drywall/Ceilings \n\nElectricians   Fire Protection          Plumbing\n\nDoors            Hardware                  Painting
X-ALT-DESC;FMTTYPE=text/html:<span id="docs-internal-guid-47eb3922-7fff-d8af-89b8-3a87fc6e734a"><span style="font-size: 10.5pt\; font-family: Arial\; color: rgb(0\, 0\, 0)\; font-variant-numeric: normal\; font-variant-east-asian: normal\; vertical-align: baseline\; white-space: pre-wrap\;">Have access to all the information and the requirements to be a part of the HERNDON Square Development\, a project in need of all vertical divisions that is looking for minority and DBE participation!</span></span><br />\n<br />\n<strong>Subcontracting and Vendor Opportunities&nbsp\;</strong><br />\n<br />\nMasonry&nbsp\; &nbsp\; &nbsp\; Metals&nbsp\; &nbsp\; &nbsp\; &nbsp\; &nbsp\; &nbsp\; &nbsp\; &nbsp\; &nbsp\; &nbsp\; &nbsp\; &nbsp\; Concrete&nbsp\;<br />\nMillwork&nbsp\; &nbsp\; &nbsp\; &nbsp\;Waterproofing&nbsp\; &nbsp\; &nbsp\; &nbsp\; &nbsp\; &nbsp\; Rough Carpentry<br />\nRoofng&nbsp\; &nbsp\; &nbsp\; &nbsp\; &nbsp\;Glazing/Windows&nbsp\; &nbsp\; &nbsp\; Flooring&nbsp\;<br />\nHVAC&nbsp\; &nbsp\; &nbsp\; &nbsp\; &nbsp\; &nbsp\;Bath Accessories&nbsp\; &nbsp\; &nbsp\; Drywall/Ceilings&nbsp\;<br />\nElectricians&nbsp\; &nbsp\;Fire Protection&nbsp\; &nbsp\; &nbsp\; &nbsp\; &nbsp\; Plumbing<br />\nDoors&nbsp\; &nbsp\; &nbsp\; &nbsp\; &nbsp\; &nbsp\; Hardware&nbsp\; &nbsp\; &nbsp\; &nbsp\; &nbsp\; &nbsp\; &nbsp\; &nbsp\; &nbsp\; Painting
LOCATION:The Ghatering Spot 384 Northyards Blv. NW\, suite 190 Atlanta\, GA 30313
UID:e.9342.1380
SEQUENCE:3
DTSTAMP:20260425T123123Z
URL:https://business.georgiahca.org/events/details/herdon-square-development-technical-session-1380
END:VEVENT

END:VCALENDAR
