BEGIN:VCALENDAR
VERSION:2.0
PRODID:-//ChamberMaster//Event Calendar 2.0//EN
METHOD:PUBLISH
X-PUBLISHED-TTL:P3D
REFRESH-INTERVAL:P3D
CALSCALE:GREGORIAN
BEGIN:VEVENT
DTSTART:20190612T193000Z
DTEND:20190612T210000Z
X-MICROSOFT-CDO-ALLDAYEVENT:FALSE
SUMMARY:Herdon Square Development Subcontractor Informational Session
DESCRIPTION:Join us to know more about the requirements to be a part of the HERDON Square Development\, a project in need of all vertical divisions that is looking for minority and DBE participation! \n\n\n\nLed by our partners of Atlanta Housing Authority and CAPSTONE Building Corp.\, this project is looking for your companies!\n\n\n\nPre-qualification required!
X-ALT-DESC;FMTTYPE=text/html:<span style="color: rgb(29\, 33\, 41)\; font-family: Helvetica\, Arial\, sans-serif\; font-size: 14px\; white-space: pre-wrap\;">Join us to know more about the requirements to be a part of the HERDON Square Development\, a project in need of all vertical divisions that is looking for minority and DBE participation! </span><br style="color: rgb(29\, 33\, 41)\; font-family: Helvetica\, Arial\, sans-serif\; font-size: 14px\; white-space: pre-wrap\;" />\n<br style="color: rgb(29\, 33\, 41)\; font-family: Helvetica\, Arial\, sans-serif\; font-size: 14px\; white-space: pre-wrap\;" />\n<span style="color: rgb(29\, 33\, 41)\; font-family: Helvetica\, Arial\, sans-serif\; font-size: 14px\; white-space: pre-wrap\;">Led by our partners of Atlanta Housing Authority and CAPSTONE Building Corp.\, this project is looking for your companies!</span><br style="color: rgb(29\, 33\, 41)\; font-family: Helvetica\, Arial\, sans-serif\; font-size: 14px\; white-space: pre-wrap\;" />\n<br />\n<span style="color: rgb(29\, 33\, 41)\; font-family: Helvetica\, Arial\, sans-serif\; font-size: 14px\; white-space: pre-wrap\;">Pre-qualification required!</span>
LOCATION:Latin American Association - Asociaci n Latinoamericana 2750 Buford Hwy NE\, Atlanta\, Georgia 30324
UID:e.9342.1378
SEQUENCE:3
DTSTAMP:20260425T123305Z
URL:https://business.georgiahca.org/events/details/herdon-square-development-subcontractor-informational-session-1378
END:VEVENT

END:VCALENDAR
