BEGIN:VCALENDAR
VERSION:2.0
PRODID:-//ChamberMaster//Event Calendar 2.0//EN
METHOD:PUBLISH
X-PUBLISHED-TTL:P3D
REFRESH-INTERVAL:P3D
CALSCALE:GREGORIAN
BEGIN:VEVENT
DTSTART:20200122T230000Z
DTEND:20200123T013000Z
X-MICROSOFT-CDO-ALLDAYEVENT:FALSE
SUMMARY:First Meet & Greet of 2020!
DESCRIPTION:Enjoy a night of networking and appetizers Sponsored by Express Hauling & Dumpsters and Hosted by Tacos & Tequilas! Register Now or call at 404-229-8070\n\n\n\nWe have many reasons to celebrate: The goals achieved in 2019\, the beginning of the New Year\, GHCA's 8th Anniversary and the reason we thrive: Our members! Meet GHCA's newest members and expand your business connections. Enjoy a brief pause in your busy day and share information about your company\, learn how you can benefit from the Association and connect with the Construction Industry\, including a wide variety of professionals\, contractors\, suppliers\, corporate and community partners. You don't want to miss this spectacular celebration!\n\n\n\nMingle with contractors\, subcontractors\, suppliers\, Industry Professionals and meet GHCA New Members! \n\n\n\n- Silent Auction a Trip to Mexico! Airfare & accommodation for two. \n\n- Complementary appetizers. \n\n- Cash Bar.
X-ALT-DESC;FMTTYPE=text/html:<span style="font-family:arial\,sans-serif\;"><span style="color:#1d2129\;">Enjoy a night of networking and appetizers Sponsored by Express Hauling &amp\; Dumpsters and Hosted by Tacos &amp\; Tequilas! Register Now</span><span style="color:#1d2129\;">&nbsp\;or call at 404-229-8070</span></span><br />\n<br />\n<span style="font-family:arial\,sans-serif\;"><span style="color:#1d2129\;">We have many reasons to celebrate: The goals achieved in 2019\, the beginning of the New Year\, GHCA&rsquo\;s 8th Anniversary and the reason we thrive: Our members! Meet GHCA&#39\;s newest members and expand your business connections. Enjoy a brief pause in your busy day and share information about your company\, learn how you can benefit from the Association and connect with the Construction Industry\,</span><span style="color:#1d2129\;">&nbsp\;including a wide variety of professionals\, contractors\, suppliers\, corporate and community partners.&nbsp\;</span><span style="color:#1d2129\;">You don&#39\;t want to miss this spectacular celebration!</span></span><br />\n<br />\nMingle with contractors\, subcontractors\, suppliers\, Industry Professionals and meet <strong><em>GHCA New Members!&nbsp\;</em></strong><br />\n<br />\n- Silent Auction a Trip to Mexico! Airfare &amp\; accommodation for two.&nbsp\;<br />\n- Complementary appetizers.&nbsp\;<br />\n- Cash Bar.&nbsp\;
LOCATION:Tacos & Tequilas Mexican Grill 4279 Roswell Rd NE #103\, Atlanta\, GA 30342
UID:e.9342.1464
SEQUENCE:3
DTSTAMP:20260425T011044Z
URL:https://business.georgiahca.org/events/details/first-meet-greet-of-2020-1464
END:VEVENT

END:VCALENDAR
