BEGIN:VCALENDAR
VERSION:2.0
PRODID:-//ChamberMaster//Event Calendar 2.0//EN
METHOD:PUBLISH
X-PUBLISHED-TTL:P3D
REFRESH-INTERVAL:P3D
CALSCALE:GREGORIAN
BEGIN:VEVENT
DTSTART:20190607T130000Z
DTEND:20190607T160000Z
X-MICROSOFT-CDO-ALLDAYEVENT:FALSE
SUMMARY:Doing Business with Gwinnett County Government: DBE Edition
DESCRIPTION:Doing Business with Gwinnett County Government: DBE Edition\n\n\n\nHost: Gwinnett County Board of Commissioners\, Office of Community Outreach\n\n\n\nPlease join Gwinnett County Government on discussing the County's Disadvantaged Business Enterprise (DBE) Triennial Plan. This workshop will focus on the Department of Transportation Transit and Airport divisions. In addition\, the program will feature our Economic Development division who will provide information\, resources\, and upcoming business outreach opportunities.\n\n \nWorkshop Agenda:\n\n9:00 AM Breakfast and Registration\n\n9:30 AM   11:30 AM Presentations:\n\n       Department of Transportation (Transit): DBE Presentation\n\n       Department of Transportation (Airport): DBE Presentation\n       Office of Economic Development Presentation
X-ALT-DESC;FMTTYPE=text/html:Doing Business with Gwinnett County Government: DBE Edition<br />\n<br />\nHost: Gwinnett County Board of Commissioners\, Office of Community Outreach<br />\n<br />\n<span id="docs-internal-guid-659ea001-7fff-7493-297b-e2c56742d3ad"><span style="color: rgb(34\, 34\, 34)\; font-variant-numeric: normal\; font-variant-east-asian: normal\; vertical-align: baseline\; white-space: pre-wrap\;"><span style="font-family:arial\;"><span style="font-size:12px\;">Please join Gwinnett County Government on discussing the County&rsquo\;s Disadvantaged Business Enterprise (DBE) Triennial Plan. This workshop will focus on the Department of Transportation Transit and Airport divisions. In addition\, the program will feature our Economic Development division who will provide information\, resources\, and upcoming business outreach opportunities.</span></span></span></span><br />\n&nbsp\;\n<p dir="ltr" style="line-height:1.38\;margin-top:0pt\;margin-bottom:0pt\;"><span style="font-family:arial\;"><span style="font-size:12px\;"><span id="docs-internal-guid-e17d6e14-7fff-3ce3-009b-3a192c45174d"><span style="color: rgb(34\, 34\, 34)\; font-variant-numeric: normal\; font-variant-east-asian: normal\; vertical-align: baseline\; white-space: pre-wrap\;">Workshop Agenda:</span></span></span></span></p>\n\n<p dir="ltr" style="line-height:1.38\;margin-top:0pt\;margin-bottom:0pt\;"><span style="font-family:arial\;"><span style="font-size:12px\;"><span id="docs-internal-guid-e17d6e14-7fff-3ce3-009b-3a192c45174d"><span style="color: rgb(34\, 34\, 34)\; font-variant-numeric: normal\; font-variant-east-asian: normal\; vertical-align: baseline\; white-space: pre-wrap\;">9:00 AM Breakfast and Registration</span></span></span></span></p>\n\n<p dir="ltr" style="line-height:1.38\;margin-top:0pt\;margin-bottom:0pt\;"><span style="font-family:arial\;"><span style="font-size:12px\;"><span id="docs-internal-guid-e17d6e14-7fff-3ce3-009b-3a192c45174d"><span style="color: rgb(34\, 34\, 34)\; font-variant-numeric: normal\; font-variant-east-asian: normal\; vertical-align: baseline\; white-space: pre-wrap\;">9:30 AM &ndash\; 11:30 AM Presentations:</span></span></span></span></p>\n\n<p dir="ltr" style="line-height:1.38\;margin-top:2pt\;margin-bottom:2pt\;"><span style="font-family:arial\;"><span style="font-size:12px\;"><span id="docs-internal-guid-e17d6e14-7fff-3ce3-009b-3a192c45174d"><span style="color: rgb(34\, 34\, 34)\; font-variant-numeric: normal\; font-variant-east-asian: normal\; vertical-align: baseline\; white-space: pre-wrap\;">&middot\;</span><span style="color: rgb(34\, 34\, 34)\; font-variant-numeric: normal\; font-variant-east-asian: normal\; vertical-align: baseline\; white-space: pre-wrap\;"> &nbsp\;&nbsp\;&nbsp\;&nbsp\;&nbsp\;</span><span style="color: rgb(34\, 34\, 34)\; font-variant-numeric: normal\; font-variant-east-asian: normal\; vertical-align: baseline\; white-space: pre-wrap\;">Department of Transportation (Transit): DBE Presentation</span></span></span></span></p>\n\n<p dir="ltr" style="line-height:1.38\;margin-top:2pt\;margin-bottom:2pt\;"><span style="font-family:arial\;"><span style="font-size:12px\;"><span id="docs-internal-guid-e17d6e14-7fff-3ce3-009b-3a192c45174d"><span style="color: rgb(34\, 34\, 34)\; font-variant-numeric: normal\; font-variant-east-asian: normal\; vertical-align: baseline\; white-space: pre-wrap\;">&middot\;</span><span style="color: rgb(34\, 34\, 34)\; font-variant-numeric: normal\; font-variant-east-asian: normal\; vertical-align: baseline\; white-space: pre-wrap\;"> &nbsp\;&nbsp\;&nbsp\;&nbsp\;&nbsp\;</span><span style="color: rgb(34\, 34\, 34)\; font-variant-numeric: normal\; font-variant-east-asian: normal\; vertical-align: baseline\; white-space: pre-wrap\;">Department of Transportation (Airport): DBE Presentation</span></span></span></span></p>\n<span style="font-family:arial\;"><span style="font-size:12px\;"><span id="docs-internal-guid-e17d6e14-7fff-3ce3-009b-3a192c45174d"><span style="color: rgb(34\, 34\, 34)\; font-variant-numeric: normal\; font-variant-east-asian: normal\; vertical-align: baseline\; white-space: pre-wrap\;">&middot\;</span><span style="color: rgb(34\, 34\, 34)\; font-variant-numeric: normal\; font-variant-east-asian: normal\; vertical-align: baseline\; white-space: pre-wrap\;"> &nbsp\;&nbsp\;&nbsp\;&nbsp\;&nbsp\;</span><span style="color: rgb(34\, 34\, 34)\; font-variant-numeric: normal\; font-variant-east-asian: normal\; vertical-align: baseline\; white-space: pre-wrap\;">Office of Economic Development Presentation</span></span></span></span>
LOCATION:University of Georgia\, Gwinnett Campus - 2530 Sever Road\, Lawrenceville\, GA 30043
UID:e.9342.1379
SEQUENCE:3
DTSTAMP:20260425T123424Z
URL:https://business.georgiahca.org/events/details/doing-business-with-gwinnett-county-government-dbe-edition-1379
END:VEVENT

END:VCALENDAR
