BEGIN:VCALENDAR
VERSION:2.0
PRODID:-//ChamberMaster//Event Calendar 2.0//EN
METHOD:PUBLISH
X-PUBLISHED-TTL:P3D
REFRESH-INTERVAL:P3D
CALSCALE:GREGORIAN
BEGIN:VEVENT
DTSTART:20260521T130000Z
DTEND:20260521T170000Z
X-MICROSOFT-CDO-ALLDAYEVENT:FALSE
SUMMARY:Developers 360
DESCRIPTION:Developers 360: From Acquisition to Sale\n\nLa Georgia Hispanic Construction Association (GHCA) presenta Developers 360\, un nuevo foro dise ado para fortalecer la conexi n entre la industria de la construcci n y el sector inmobiliario.\n\nEste evento reunir  a contratistas\, desarrolladores\, inversionistas de fix and flip\, prestamistas\, compa  as de seguros\, autoridades de vivienda y aliados estrat gicos en un espacio din mico enfocado en educaci n\, acceso a capital y generaci n de oportunidades de negocio.\n\nEl programa incluir :\n\n\n	\n	Dos paneles con expertos\n\n	Panel 1: en estrategia de Adquisicion y  construcci n\, an lisis financiero de la inversion\, proteccion por medio de seguros y estrategia Fiscal para aprovechar el BBB\n\n	Panel 2: Financiamiento de principio a Fin\, Acceso a capital para compra de las propiedades\, construccion y Alianzas estrategicas para su venta asi como Estructuras legales para proteger tu negocio.\n	\n	\n	Connections Hub Expo\, un  rea dedicada para conectar con proveedores clave del ecosistema de bienes ra ces y construcci n\, Capital\, Seguros\, Proveedores de la Industria\, Disenadores\, Realtors.\n	\n	\n	Sesi n VIP de Matchmaking\, con mesas redondas lideradas por organizaciones que presentan oportunidades reales de colaboraci n\, inversi n y desarrollo\, Capital\, Seguros\, Desarrolladores. Tu acceso VIP te permite disfrutar de un networking de alto nivel que potencie tu negocio por medio de los aliados estrategicos para Desarrollar propiedades Residenciales. \n\n	\n\n	 \n\n	Developers 360 is a new GHCA forum designed to connect the construction and real estate industries in one dynamic space. This event brings together contractors\, fix-and-flip investors\, developers\, lenders\, housing partners\, and service providers to explore the full development cycle from property acquisition and renovation to financing and sale.\n\n	The program features two expert panels\, a dedicated Connections Hub Expo\, and a VIP Matchmaking Session focused on real collaboration opportunities
X-ALT-DESC;FMTTYPE=text/html:<h2 data-end="166" data-start="121"><span style="font-size:14px\;"><span style="font-family:tahoma\;">Developers 360: From Acquisition to Sale</span></span></h2>\n\n<p data-end="363" data-start="168"><span style="font-size:14px\;"><span style="font-family:tahoma\;">La Georgia Hispanic Construction Association (GHCA) presenta <strong data-end="247" data-start="229">Developers 360</strong>\, un nuevo foro dise&ntilde\;ado para fortalecer la conexi&oacute\;n entre la industria de la construcci&oacute\;n y el sector inmobiliario.</span></span></p>\n\n<p data-end="637" data-start="365"><span style="font-size:14px\;"><span style="font-family:tahoma\;">Este evento reunir&aacute\; a contratistas\, desarrolladores\, inversionistas de fix and flip\, prestamistas\, compa&ntilde\;&iacute\;as de seguros\, autoridades de vivienda y aliados estrat&eacute\;gicos en un espacio din&aacute\;mico enfocado en educaci&oacute\;n\, acceso a capital y generaci&oacute\;n de oportunidades de negocio.</span></span></p>\n\n<p data-end="660" data-start="639"><span style="font-size:14px\;"><span style="font-family:tahoma\;">El programa incluir&aacute\;:</span></span></p>\n\n<ul data-end="1058" data-start="661">\n	<li data-end="770" data-start="661">\n	<p data-end="770" data-start="663"><span style="font-size:14px\;"><span style="font-family:tahoma\;"><strong data-end="691" data-start="663">Dos paneles con expertos</strong><br />\n	Panel 1: en estrategia de Adquisicion y&nbsp\; construcci&oacute\;n\, an&aacute\;lisis financiero de la inversion\, proteccion por medio de seguros y estrategia Fiscal para aprovechar el BBB<br />\n	Panel 2: Financiamiento de principio a Fin\, Acceso a capital para compra de las propiedades\, construccion y Alianzas estrategicas para su venta asi como Estructuras legales para proteger tu negocio.</span></span></p>\n	</li>\n	<li data-end="900" data-start="771">\n	<p data-end="900" data-start="773"><span style="font-size:14px\;"><span style="font-family:tahoma\;"><strong data-end="797" data-start="773">Connections Hub Expo</strong>\, un &aacute\;rea dedicada para conectar con proveedores clave del ecosistema de bienes ra&iacute\;ces y construcci&oacute\;n\, Capital\, Seguros\, Proveedores de la Industria\, Disenadores\, Realtors.</span></span></p>\n	</li>\n	<li data-end="1058" data-start="901">\n	<p data-end="1058" data-start="903"><span style="font-size:14px\;"><span style="font-family:tahoma\;"><strong data-end="932" data-start="903">Sesi&oacute\;n VIP de Matchmaking</strong>\, con mesas redondas lideradas por organizaciones que presentan oportunidades reales de colaboraci&oacute\;n\, inversi&oacute\;n y desarrollo\, Capital\, Seguros\, Desarrolladores. Tu acceso VIP te permite disfrutar de un networking de alto nivel que potencie tu negocio por medio de los aliados estrategicos para Desarrollar propiedades Residenciales.&nbsp\;</span></span><br />\n	<br />\n	&nbsp\;</p>\n\n	<p data-end="472" data-start="125"><em><span style="font-size:14px\;"><span style="font-family:tahoma\;">Developers 360 is a new GHCA forum designed to connect the construction and real estate industries in one dynamic space. This event brings together contractors\, fix-and-flip investors\, developers\, lenders\, housing partners\, and service providers to explore the full development cycle&mdash\;from property acquisition and renovation to financing and sale.</span></span></em></p>\n\n	<p data-end="622" data-start="474"><em><span style="font-size:14px\;"><span style="font-family:tahoma\;">The program features two expert panels\, a dedicated Connections Hub Expo\, and a VIP Matchmaking Session focused on real collaboration opportunities</span></span></em></p>\n	</li>\n</ul>\n
LOCATION:Gwinnett Technical College 5150 Sugarloaf Pkwy Lawrenceville GA 30043
UID:e.9342.2049
SEQUENCE:3
DTSTAMP:20260423T084307Z
URL:https://business.georgiahca.org/events/details/developers-360-2049
END:VEVENT

END:VCALENDAR
