BEGIN:VCALENDAR
VERSION:2.0
PRODID:-//ChamberMaster//Event Calendar 2.0//EN
METHOD:PUBLISH
X-PUBLISHED-TTL:P3D
REFRESH-INTERVAL:P3D
CALSCALE:GREGORIAN
BEGIN:VEVENT
DTSTART:20190620T123000Z
DTEND:20190621T023000Z
X-MICROSOFT-CDO-ALLDAYEVENT:FALSE
SUMMARY:Coffee and Conversation with Gwinnett County Government
DESCRIPTION:Gwinnett County wants to hear from you\, whether you're a big or small business looking to expand\, an entrepreneur starting out or a developer looking to build or redevelop property. We want to know what we can do to foster a vibrant business community.\nJoin them for Coffee and Conversation\, a new initiative that puts you in touch with our Economic Development team and decision-makers for Planning and Development\, Purchasing\, Water Resources\, Transportation\, Police\, and Fire departments - all over a casual cup of java. It's a great way to share a suggestion\, solve a problem\, gain insight\, and for all of us to be vibrantly connected.
X-ALT-DESC;FMTTYPE=text/html:<span style="font-size:14px\;"><span style="font-family:tahoma\;"><strong style="color: rgb(0\, 0\, 0)\; font-family: Arial\, Helvetica\, sans-serif\; font-size: 13.3333px\;">Gwinnett County wants to hear from you\, whether you&#39\;re a big or small business looking to expand\, an entrepreneur starting out or a developer looking to build or redevelop property. We want to know what we can do to foster a vibrant business community.</strong></span></span>\n<div style="color: rgb(0\, 0\, 0)\; font-family: Arial\, Helvetica\, sans-serif\; font-size: 13.3333px\;">Join them for Coffee and Conversation\, a new initiative that puts you in touch with our Economic Development team and decision-makers for Planning and Development\, Purchasing\,&nbsp\;Water Resources\, Transportation\, Police\, and Fire departments - all over a casual cup of java. It&#39\;s a great way to share a suggestion\, solve a problem\, gain insight\, and for all of us to be vibrantly connected.</div>\n\n<div style="color: rgb(0\, 0\, 0)\; font-family: Arial\, Helvetica\, sans-serif\; font-size: 13.3333px\;">&nbsp\;&nbsp\;</div>\n\n<div style="color: rgb(0\, 0\, 0)\; font-family: Arial\, Helvetica\, sans-serif\; font-size: 13.3333px\;">\n<div>&nbsp\;</div>\n</div>\n\n<div>&nbsp\;</div>\n
LOCATION:Where Studio movie grill - Duluth 3850 Venture drive Duluth\, GA 30096
UID:e.9342.1377
SEQUENCE:3
DTSTAMP:20260425T123355Z
URL:https://business.georgiahca.org/events/details/coffee-and-conversation-with-gwinnett-county-government-1377
END:VEVENT

END:VCALENDAR
