BEGIN:VCALENDAR
VERSION:2.0
PRODID:-//ChamberMaster//Event Calendar 2.0//EN
METHOD:PUBLISH
X-PUBLISHED-TTL:P3D
REFRESH-INTERVAL:P3D
CALSCALE:GREGORIAN
BEGIN:VEVENT
DTSTART:20260514T140000Z
DTEND:20260514T170000Z
X-MICROSOFT-CDO-ALLDAYEVENT:FALSE
SUMMARY:Bank Forum | Recursos Financieros para pequeños negocios
DESCRIPTION:En alianza con Prospera\, te invitamos a este Foro para que conozcas las opciones que el sistema bancario ofrece para apoyar el crecimiento de su negocio. En este foro bancario aprender  a identificar los productos financieros m s adecuados seg n sus necesidades y a prepararse para acceder a ellos con  xito.\n\nTemas a tratar:\n\n  Tipos de cuentas bancarias empresariales\n\n  Clases de pr stamos y requisitos comunes\n\n  L neas de cr dito y alternativas de financiamiento\n\n  Productos de inversi n para negocios\n\n\n\nRegistro gratuito AQUI
X-ALT-DESC;FMTTYPE=text/html:<p style="box-sizing: inherit\; border: 0px\; font-size: 18px\; margin: 0px 0px 16px\; outline: 0px\; padding: 0px\; vertical-align: baseline\; line-height: 1.5\; color: rgb(20\, 24\, 39)\; font-family: Montserrat\, sans-serif\; background-color: rgb(254\, 254\, 254)\;"><span style="font-size:18px\;"><span style="font-family:tahoma\;">En alianza con Prospera\, te invitamos a este Foro para que conozcas las opciones que el sistema bancario ofrece para apoyar el crecimiento de su negocio. En este foro bancario aprender&aacute\; a identificar los productos financieros m&aacute\;s adecuados seg&uacute\;n sus necesidades y a prepararse para acceder a ellos con &eacute\;xito.</span></span></p>\n\n<p style="box-sizing: inherit\; border: 0px\; font-size: 18px\; margin: 0px 0px 16px\; outline: 0px\; padding: 0px\; vertical-align: baseline\; line-height: 1.5\; color: rgb(20\, 24\, 39)\; font-family: Montserrat\, sans-serif\; background-color: rgb(254\, 254\, 254)\;"><span style="font-size:18px\;"><span style="font-family:tahoma\;">Temas a tratar:<br style="box-sizing: inherit\;" />\n&bull\; Tipos de cuentas bancarias empresariales<br style="box-sizing: inherit\;" />\n&bull\; Clases de pr&eacute\;stamos y requisitos comunes<br style="box-sizing: inherit\;" />\n&bull\; L&iacute\;neas de cr&eacute\;dito y alternativas de financiamiento<br style="box-sizing: inherit\;" />\n&bull\; Productos de inversi&oacute\;n para negocios</span></span><br />\n<br />\n<span style="font-family: tahoma\; font-size: 18px\;">Registro gratuito AQUI</span></p>\n
LOCATION:Latin American Association
UID:e.9342.2041
SEQUENCE:3
DTSTAMP:20260424T171645Z
URL:https://business.georgiahca.org/events/details/bank-forum-recursos-financieros-para-peque&#241;os-negocios-2041
END:VEVENT

END:VCALENDAR
