BEGIN:VCALENDAR
VERSION:2.0
PRODID:-//ChamberMaster//Event Calendar 2.0//EN
METHOD:PUBLISH
X-PUBLISHED-TTL:P3D
REFRESH-INTERVAL:P3D
CALSCALE:GREGORIAN
BEGIN:VEVENT
DTSTART:20190212T230000Z
DTEND:20190213T020000Z
X-MICROSOFT-CDO-ALLDAYEVENT:FALSE
SUMMARY:Academia de Negocios 2019
DESCRIPTION:La Academia de Negocios 2019 es un programa dise ado por la Asociacion Hispana de Construcci n de Georgia dirigido para los due os de compa ias que planeen establecer o crecer su negocio de manera estructurada. Los instructores son expertos en el area de construcci n que compartir n sus conocimeintos y experiencias en un ambiente de colaboraci n y apoyo.\n\n\n\nNo se puede perder este Programa que consiste en ocho sesiones que se llevar n a cabo todos los martes desde el 5 de Febrero al 26 de Marzo de 6:00 pm a 8:30 pm. Llame al 404-229-8070 o registrase en: https://bit.ly/2EHVi6L
X-ALT-DESC;FMTTYPE=text/html:<span style="color: rgb(29\, 33\, 41)\; font-family: Helvetica\, Arial\, sans-serif\; font-size: 14px\;">La Academia de Negocios 2019 es un programa dise&ntilde\;ado por la Asociacion Hispana de Construcci&oacute\;n de Georgia dirigido para los due&ntilde\;os de compa&ntilde\;ias que planeen establecer o crecer su negocio de manera estructurada. Los instructores son expertos en el area de construcci&oacute\;n que compartir&aacute\;n sus conocimeintos y experiencias en un ambiente de colaboraci&oacute\;n y apoyo.<br />\n<br />\nNo se puede perder este Programa que consiste en ocho sesiones que se llevar&aacute\;n a cabo todos los martes desde el 5 de Febrer</span><span class="text_exposed_show" style="display: inline\; font-family: Helvetica\, Arial\, sans-serif\; color: rgb(29\, 33\, 41)\; font-size: 14px\;">o al 26 de Marzo de 6:00 pm a 8:30 pm. Llame al 404-229-8070 o registrase en:&nbsp\;<a data-ft="{&quot\;tn&quot\;:&quot\;-U&quot\;}" data-lynx-mode="async" data-lynx-uri="https://l.facebook.com/l.php?u=https%3A%2F%2Fbit.ly%2F2EHVi6L%3Ffbclid%3DIwAR3nijdHCckZkJyX7goBZMSJTeBE9Yc-G7bU57Et2_SXBw8M4iZBZ3mNt9I&amp\;h=AT33ZRk_SebG_KXHEDgaWpPyhzgrneHwI4IJy0BjMv0PW-W2EO3A5edfXG7OKnpj1hNZ0sklOrkiafA9e8voho3rKckzrg_1CJB4nhSLCkOzvuxxFHq7osZvyCMen-uEmfey8Fj3LU8amwGs8RgUG1buUrkiPKgSaZsICxyqaEHMecMURIEUXeqGAu-aDSsra01_MOJ_6jUmPAgtHK2m_Mt_pca-0HYN-oI3MhHhn-dTeVbQpJk038xH_7xN2d8dbiiNgm3e9E8eMGqfx_P_cGpVXbA4Y0Jqj2nmdNDrpZk44QUrpx-pUPQW-6lQkxX5TRCJHjxrRH6sZHyp4DllANqHuiY1ByVf9i7FnjtAXf-3guEvGzLGh6slJZYiyJ7Z1BRoXBYkBeZxwB-FpctHdt2BKI2woL0xoa7KBtaur8imz4bZ8JgCGphhNxHFsqF8a1Kq_y7lgMjN0-hCkDSazJn4HDPX97JiQqN1sa_BBX8vLVx2rlCSCpOzc42QMPxoL_X-DNch7bcP0X1u4phIV59vB_NpYYHWJ3UaR3ag-U9dPHKMotK07RKAEw" href="https://bit.ly/2EHVi6L?fbclid=IwAR3nijdHCckZkJyX7goBZMSJTeBE9Yc-G7bU57Et2_SXBw8M4iZBZ3mNt9I" rel="noopener nofollow" style="color: rgb(54\, 88\, 153)\; cursor: pointer\; text-decoration-line: none\; font-family: inherit\;" target="_blank">https://bit.ly/2EHVi6L</a></span>
LOCATION:TBD
UID:e.9342.1354
SEQUENCE:3
DTSTAMP:20260425T201110Z
URL:https://business.georgiahca.org/events/details/academia-de-negocios-2019-1354
END:VEVENT

END:VCALENDAR
