BEGIN:VCALENDAR
VERSION:2.0
PRODID:-//ChamberMaster//Event Calendar 2.0//EN
METHOD:PUBLISH
X-PUBLISHED-TTL:P3D
REFRESH-INTERVAL:P3D
CALSCALE:GREGORIAN
BEGIN:VEVENT
DTSTART:20181110T233000Z
DTEND:20181111T060000Z
X-MICROSOFT-CDO-ALLDAYEVENT:FALSE
SUMMARY:7th Annual GALA Awards!
DESCRIPTION:The Georgia Hispanic Construction Association cordially invites you to the 7th GHCA's GALA "DREAM BIG" to be held on Saturday\, November 10th.\n\n\n\nThis event will be full of matchmaking opportunities\, celebration of accomplishments and LOTS of FUN. We have created a wonderful platform for you to meet industry leaders\, community advocates\, government representatives to recognize the success of Hispanic and other minority contractors in our State and those organizations that advocate the advancement of our community. \n\n\n\nFor tables and sponsorship opportunities\, contact Maricielo Fuller at 404-771-8587 or by email: arivera@georgiahca.org\n\n\n\nRegister at https://bit.ly/2kQe3Jd
X-ALT-DESC;FMTTYPE=text/html:<span style="font-family:tahoma\;"><span style="color: rgb(29\, 33\, 41)\; font-size: 14px\;">The Georgia Hispanic Construction Association cordially invites you to the 7th GHCA&#39\;s GALA &quot\;DREAM BIG&quot\; to be held on Saturday\, November 10th.</span><br style="color: rgb(29\, 33\, 41)\; font-family: Helvetica\, Arial\, sans-serif\; font-size: 14px\;" />\n<br style="color: rgb(29\, 33\, 41)\; font-family: Helvetica\, Arial\, sans-serif\; font-size: 14px\;" />\n<span style="color: rgb(29\, 33\, 41)\; font-size: 14px\;">This event will be full of matchmaking opportunities\, celebration of accomplishments and LOTS of FUN. We have created a wonderful platform for you to meet industry leaders\, community advocates\, government representatives to recognize the success of Hispanic and other minority contractors in our State and those organizations that advocate the advancement of our community.&nbsp\;</span><br style="color: rgb(29\, 33\, 41)\; font-family: Helvetica\, Arial\, sans-serif\; font-size: 14px\;" />\n<br style="color: rgb(29\, 33\, 41)\; font-family: Helvetica\, Arial\, sans-serif\; font-size: 14px\;" />\n<span style="color: rgb(29\, 33\, 41)\; font-size: 14px\;">For tables and sponsorship opportunities\, contact Maricielo Fuller at 404-771-8587 or by email: arivera@georgiahca.org</span><br style="color: rgb(29\, 33\, 41)\; font-family: Helvetica\, Arial\, sans-serif\; font-size: 14px\;" />\n<br style="color: rgb(29\, 33\, 41)\; font-family: Helvetica\, Arial\, sans-serif\; font-size: 14px\;" />\n<span style="color: rgb(29\, 33\, 41)\; font-size: 14px\;">Register at&nbsp\;</span><a data-lynx-mode="hover" data-lynx-uri="https://l.facebook.com/l.php?u=https%3A%2F%2Fbit.ly%2F2kQe3Jd&amp\;h=AT2ZwBC7-RFG5ua-ft4uE1wwdsxFkcRdtShbnidG4OKeQ39ytutagTA77cMykcOQqc7DxjGhCO8uVYRCfgJvRUsU_W67oivRJfVCmyTMvgcF-PwrGAcOtjz7i1tcQzxh2g" href="https://bit.ly/2kQe3Jd" rel="nofollow noopener" style="color: rgb(54\, 88\, 153)\; cursor: pointer\; text-decoration-line: none\; font-family: Helvetica\, Arial\, sans-serif\; font-size: 14px\;" target="_blank">https://bit.ly/2kQe3Jd</a></span>
LOCATION:SONESTA Gwinnett Place Hotel
UID:e.9342.1345
SEQUENCE:3
DTSTAMP:20260426T005443Z
URL:https://business.georgiahca.org/events/details/7th-annual-gala-awards-1345
END:VEVENT

END:VCALENDAR
